BEGIN:VCALENDAR
VERSION:2.0
PRODID:-//Frauenchor Querbeet Eisborn - ECPv6.15.20//NONSGML v1.0//EN
CALSCALE:GREGORIAN
METHOD:PUBLISH
X-ORIGINAL-URL:https://querbeet-eisborn.de
X-WR-CALDESC:Veranstaltungen für Frauenchor Querbeet Eisborn
REFRESH-INTERVAL;VALUE=DURATION:PT1H
X-Robots-Tag:noindex
X-PUBLISHED-TTL:PT1H
BEGIN:VTIMEZONE
TZID:Europe/Paris
BEGIN:DAYLIGHT
TZOFFSETFROM:+0100
TZOFFSETTO:+0200
TZNAME:CEST
DTSTART:20240331T010000
END:DAYLIGHT
BEGIN:STANDARD
TZOFFSETFROM:+0200
TZOFFSETTO:+0100
TZNAME:CET
DTSTART:20241027T010000
END:STANDARD
BEGIN:DAYLIGHT
TZOFFSETFROM:+0100
TZOFFSETTO:+0200
TZNAME:CEST
DTSTART:20250330T010000
END:DAYLIGHT
BEGIN:STANDARD
TZOFFSETFROM:+0200
TZOFFSETTO:+0100
TZNAME:CET
DTSTART:20251026T010000
END:STANDARD
BEGIN:DAYLIGHT
TZOFFSETFROM:+0100
TZOFFSETTO:+0200
TZNAME:CEST
DTSTART:20260329T010000
END:DAYLIGHT
BEGIN:STANDARD
TZOFFSETFROM:+0200
TZOFFSETTO:+0100
TZNAME:CET
DTSTART:20261025T010000
END:STANDARD
END:VTIMEZONE
BEGIN:VTIMEZONE
TZID:UTC
BEGIN:STANDARD
TZOFFSETFROM:+0000
TZOFFSETTO:+0000
TZNAME:UTC
DTSTART:20240101T000000
END:STANDARD
END:VTIMEZONE
BEGIN:VEVENT
DTSTART;TZID=Europe/Paris:20250302T080000
DTEND;TZID=Europe/Paris:20250302T170000
DTSTAMP:20260423T193714
CREATED:20250302T201156Z
LAST-MODIFIED:20250302T201156Z
UID:110-1740902400-1740934800@querbeet-eisborn.de
SUMMARY:Titel der Veranstaltung
DESCRIPTION:Text \n 
URL:https://querbeet-eisborn.de/event/titel-der-veranstaltung/
LOCATION:hier
END:VEVENT
BEGIN:VEVENT
DTSTART;TZID=UTC:20250325T000000
DTEND;TZID=UTC:20250325T235959
DTSTAMP:20260423T193714
CREATED:20250325T131753Z
LAST-MODIFIED:20250325T131753Z
UID:274-1742860800-1742947199@querbeet-eisborn.de
SUMMARY:Adventsbasar
DESCRIPTION:Wir begleiten gesanglich den Adventsbasar des Altenheim Balve
URL:https://querbeet-eisborn.de/event/adventsbasar/
LOCATION:Altenheim Balve
END:VEVENT
BEGIN:VEVENT
DTSTART;TZID=Europe/Paris:20250329T170000
DTEND;TZID=Europe/Paris:20250329T233000
DTSTAMP:20260423T193714
CREATED:20250325T122827Z
LAST-MODIFIED:20250325T124656Z
UID:226-1743267600-1743291000@querbeet-eisborn.de
SUMMARY:165 Jahre MGV Garbeck
DESCRIPTION:Wir gratulieren dem MGV Garbeck zum 165jährigen Bestehen. \nAb 17Uhr geht´s los und die Liedvorträge der Chöre gehen ab 19Uhr los.
URL:https://querbeet-eisborn.de/event/165-jahre-mgv-garbeck/
LOCATION:Schützenhalle Garbeck
END:VEVENT
END:VCALENDAR