BEGIN:VCALENDAR
VERSION:2.0
PRODID:-//Frauenchor Querbeet Eisborn - ECPv6.15.20//NONSGML v1.0//EN
CALSCALE:GREGORIAN
METHOD:PUBLISH
X-WR-CALNAME:Frauenchor Querbeet Eisborn
X-ORIGINAL-URL:https://querbeet-eisborn.de
X-WR-CALDESC:Veranstaltungen für Frauenchor Querbeet Eisborn
REFRESH-INTERVAL;VALUE=DURATION:PT1H
X-Robots-Tag:noindex
X-PUBLISHED-TTL:PT1H
BEGIN:VTIMEZONE
TZID:Europe/Paris
BEGIN:DAYLIGHT
TZOFFSETFROM:+0100
TZOFFSETTO:+0200
TZNAME:CEST
DTSTART:20240331T010000
END:DAYLIGHT
BEGIN:STANDARD
TZOFFSETFROM:+0200
TZOFFSETTO:+0100
TZNAME:CET
DTSTART:20241027T010000
END:STANDARD
BEGIN:DAYLIGHT
TZOFFSETFROM:+0100
TZOFFSETTO:+0200
TZNAME:CEST
DTSTART:20250330T010000
END:DAYLIGHT
BEGIN:STANDARD
TZOFFSETFROM:+0200
TZOFFSETTO:+0100
TZNAME:CET
DTSTART:20251026T010000
END:STANDARD
BEGIN:DAYLIGHT
TZOFFSETFROM:+0100
TZOFFSETTO:+0200
TZNAME:CEST
DTSTART:20260329T010000
END:DAYLIGHT
BEGIN:STANDARD
TZOFFSETFROM:+0200
TZOFFSETTO:+0100
TZNAME:CET
DTSTART:20261025T010000
END:STANDARD
END:VTIMEZONE
BEGIN:VEVENT
DTSTART;TZID=Europe/Paris:20250413T093000
DTEND;TZID=Europe/Paris:20250413T133000
DTSTAMP:20260423T180504
CREATED:20250325T123512Z
LAST-MODIFIED:20250325T124736Z
UID:235-1744536600-1744551000@querbeet-eisborn.de
SUMMARY:Chorehrungen
DESCRIPTION:Wir singen die Messe in Balve/Beckum. \nAnschließend CHORINTERN:  gemeinsames Frühstück mit Chorehrungen
URL:https://querbeet-eisborn.de/event/chorehrungen/
LOCATION:Privat: <Kirche Balve/Beckum
END:VEVENT
END:VCALENDAR