BEGIN:VCALENDAR
VERSION:2.0
PRODID:-//Frauenchor Querbeet Eisborn - ECPv6.15.20//NONSGML v1.0//EN
CALSCALE:GREGORIAN
METHOD:PUBLISH
X-ORIGINAL-URL:https://querbeet-eisborn.de
X-WR-CALDESC:Veranstaltungen für Frauenchor Querbeet Eisborn
REFRESH-INTERVAL;VALUE=DURATION:PT1H
X-Robots-Tag:noindex
X-PUBLISHED-TTL:PT1H
BEGIN:VTIMEZONE
TZID:UTC
BEGIN:STANDARD
TZOFFSETFROM:+0000
TZOFFSETTO:+0000
TZNAME:UTC
DTSTART:20240101T000000
END:STANDARD
END:VTIMEZONE
BEGIN:VTIMEZONE
TZID:Europe/Paris
BEGIN:DAYLIGHT
TZOFFSETFROM:+0100
TZOFFSETTO:+0200
TZNAME:CEST
DTSTART:20240331T010000
END:DAYLIGHT
BEGIN:STANDARD
TZOFFSETFROM:+0200
TZOFFSETTO:+0100
TZNAME:CET
DTSTART:20241027T010000
END:STANDARD
BEGIN:DAYLIGHT
TZOFFSETFROM:+0100
TZOFFSETTO:+0200
TZNAME:CEST
DTSTART:20250330T010000
END:DAYLIGHT
BEGIN:STANDARD
TZOFFSETFROM:+0200
TZOFFSETTO:+0100
TZNAME:CET
DTSTART:20251026T010000
END:STANDARD
BEGIN:DAYLIGHT
TZOFFSETFROM:+0100
TZOFFSETTO:+0200
TZNAME:CEST
DTSTART:20260329T010000
END:DAYLIGHT
BEGIN:STANDARD
TZOFFSETFROM:+0200
TZOFFSETTO:+0100
TZNAME:CET
DTSTART:20261025T010000
END:STANDARD
END:VTIMEZONE
BEGIN:VEVENT
DTSTART;TZID=UTC:20250919T000000
DTEND;TZID=UTC:20250919T235959
DTSTAMP:20260423T103728
CREATED:20250325T130135Z
LAST-MODIFIED:20250325T130135Z
UID:258-1758240000-1758326399@querbeet-eisborn.de
SUMMARY:150 Jahre MGV Balve
DESCRIPTION:Wir gratulieren bei dem Sängerfest dem MGV Balve mit Liedbeiträgen.
URL:https://querbeet-eisborn.de/event/150-jahre-mgv-balve/
LOCATION:Balver Höhle
END:VEVENT
BEGIN:VEVENT
DTSTART;TZID=Europe/Paris:20250928T140000
DTEND;TZID=Europe/Paris:20250928T180000
DTSTAMP:20260423T103728
CREATED:20250325T130515Z
LAST-MODIFIED:20250325T130515Z
UID:264-1759068000-1759082400@querbeet-eisborn.de
SUMMARY:Herbstkonzert
DESCRIPTION:Wir veranstalten gemeinsam mit unserem Projektchor „Dreams“ ein Konzert. \nfür das leibliche Wohl bieten wir Kaffee und Kuchen an.
URL:https://querbeet-eisborn.de/event/herbstkonzert/
LOCATION:Schützenhalle Eisborn
END:VEVENT
END:VCALENDAR